BEGIN:VCALENDAR
VERSION:2.0
METHOD:PUBLISH
PRODID:-//Event-List//NONSGML Event-List 5.0.3//DE
X-WR-TIMEZONE:Europe/Berlin
CALSCALE:GREGORIAN
BEGIN:VTIMEZONE
TZID:Europe/Berlin
BEGIN:DAYLIGHT
TZOFFSETFROM:+0100
TZOFFSETTO:+0200
DTSTART:19810329T020000
RRULE:FREQ=YEARLY;BYMONTH=3;BYDAY=-1SU
TZNAME:CEST
END:DAYLIGHT
BEGIN:STANDARD
TZOFFSETFROM:+0200
TZOFFSETTO:+0100
DTSTART:19961027T030000
RRULE:FREQ=YEARLY;BYMONTH=10;BYDAY=-1SU
TZNAME:CET
END:STANDARD
END:VTIMEZONE
BEGIN:VEVENT
DTSTAMP:20260426T033223
DTSTART:20070125T200000
DTEND:20070125T200000
UID:212@www.usmvl.lu/calendar
CLASS:PUBLIC
SUMMARY:Assemblée Génerale HMLG a.s.b.l.
DESCRIPTION:Assemblée Générale am Museksall vun der Gasperecher
  Schoul, Entrée rue Rossini Wans du Interesse hues fir an eisem
  Verein matzehellefen, matzeschaffen , dann mell dech an eise Komite. Mir
  waere frou dech kennen ze le'iren. Ruf einfach eisem Secrétaire dem
  Claude Glesener un ,GSM 621 23 20 66 oder eiser Praesidentin dem Marianne
  Degegori GSM 621 21 94 97. Mir fréen eis op deng Kandidatur. Leif
  musikalech Greiss
CONTACT:Harmonie Municipale Luxembourg-Gasperich a.s.b.l.\, Claude Glesener\, 621232066
CATEGORIES:
END:VEVENT
END:VCALENDAR