BEGIN:VCALENDAR
VERSION:2.0
METHOD:PUBLISH
PRODID:-//Event-List//NONSGML Event-List 5.0.3//DE
X-WR-TIMEZONE:Europe/Berlin
CALSCALE:GREGORIAN
BEGIN:VTIMEZONE
TZID:Europe/Berlin
BEGIN:DAYLIGHT
TZOFFSETFROM:+0100
TZOFFSETTO:+0200
DTSTART:19810329T020000
RRULE:FREQ=YEARLY;BYMONTH=3;BYDAY=-1SU
TZNAME:CEST
END:DAYLIGHT
BEGIN:STANDARD
TZOFFSETFROM:+0200
TZOFFSETTO:+0100
DTSTART:19961027T030000
RRULE:FREQ=YEARLY;BYMONTH=10;BYDAY=-1SU
TZNAME:CET
END:STANDARD
END:VTIMEZONE
BEGIN:VEVENT
DTSTAMP:20260426T033223
DTSTART:20070707T110000
DTEND:20070707T110000
UID:223@www.usmvl.lu/calendar
CLASS:PUBLIC
SUMMARY:Concert Summerfest HMLG a.s.b.l.
DESCRIPTION:Concert um Summerfest bei der Kiirch zu Gasperech org. Oeuvres paroissiales
CONTACT:Oeuvres paroissiales de Gasperich\, Claude Glesener\, 621232066
CATEGORIES:Divers
END:VEVENT
END:VCALENDAR