BEGIN:VCALENDAR
VERSION:2.0
METHOD:PUBLISH
PRODID:-//Event-List//NONSGML Event-List 5.0.3//DE
X-WR-TIMEZONE:Europe/Berlin
CALSCALE:GREGORIAN
BEGIN:VTIMEZONE
TZID:Europe/Berlin
BEGIN:DAYLIGHT
TZOFFSETFROM:+0100
TZOFFSETTO:+0200
DTSTART:19810329T020000
RRULE:FREQ=YEARLY;BYMONTH=3;BYDAY=-1SU
TZNAME:CEST
END:DAYLIGHT
BEGIN:STANDARD
TZOFFSETFROM:+0200
TZOFFSETTO:+0100
DTSTART:19961027T030000
RRULE:FREQ=YEARLY;BYMONTH=10;BYDAY=-1SU
TZNAME:CET
END:STANDARD
END:VTIMEZONE
BEGIN:VEVENT
DTSTAMP:20260425T231235
DTSTART:20090321T200000
DTEND:20090321T200000
UID:282@www.usmvl.lu/calendar
CLASS:PUBLIC
SUMMARY:Concert à Hollerich
DESCRIPTION:Concert avec l'Harmonie Gasperich + l'Harmonie Hollerich, Gare,
  Cessange
CONTACT:Harmonie Hollerich\, Gare\, Cessange\, Frank Weis\, 48 63 79\, Fax 29 72 92
LOCATION:Centre culturel\, 34 rue Lavandier\, Hollerich
CATEGORIES:Concert
END:VEVENT
END:VCALENDAR