BEGIN:VCALENDAR
VERSION:2.0
METHOD:PUBLISH
PRODID:-//Event-List//NONSGML Event-List 5.0.3//DE
X-WR-TIMEZONE:Europe/Berlin
CALSCALE:GREGORIAN
BEGIN:VTIMEZONE
TZID:Europe/Berlin
BEGIN:DAYLIGHT
TZOFFSETFROM:+0100
TZOFFSETTO:+0200
DTSTART:19810329T020000
RRULE:FREQ=YEARLY;BYMONTH=3;BYDAY=-1SU
TZNAME:CEST
END:DAYLIGHT
BEGIN:STANDARD
TZOFFSETFROM:+0200
TZOFFSETTO:+0100
DTSTART:19961027T030000
RRULE:FREQ=YEARLY;BYMONTH=10;BYDAY=-1SU
TZNAME:CET
END:STANDARD
END:VTIMEZONE
BEGIN:VEVENT
DTSTAMP:20260425T210527
DTSTART:20090607T090000
DTEND:20090607T140000
UID:285@www.usmvl.lu/calendar
CLASS:PUBLIC
SUMMARY:HMLG "KIRMES" ZU GASPERECH mam HAEMMELSMARCH
DESCRIPTION:d'Gasperecher Musek spillt Sondes den 07 Juni den Haemmelsmarch bei
  der Schoul rue G. Rossini, 
CONTACT:Harmonie Municipale Luxembourg-Gasperich a.s.b.l.\, Claude Glesener\, secretaire\, 621232066
LOCATION:Ecole primaire de Gasperich\, 2\, rue G. Rossini\, Gasperich
CATEGORIES:Divers,Divers
END:VEVENT
END:VCALENDAR