BEGIN:VCALENDAR
VERSION:2.0
METHOD:PUBLISH
PRODID:-//Event-List//NONSGML Event-List 5.0.3//DE
X-WR-TIMEZONE:Europe/Berlin
CALSCALE:GREGORIAN
BEGIN:VTIMEZONE
TZID:Europe/Berlin
BEGIN:DAYLIGHT
TZOFFSETFROM:+0100
TZOFFSETTO:+0200
DTSTART:19810329T020000
RRULE:FREQ=YEARLY;BYMONTH=3;BYDAY=-1SU
TZNAME:CEST
END:DAYLIGHT
BEGIN:STANDARD
TZOFFSETFROM:+0200
TZOFFSETTO:+0100
DTSTART:19961027T030000
RRULE:FREQ=YEARLY;BYMONTH=10;BYDAY=-1SU
TZNAME:CET
END:STANDARD
END:VTIMEZONE
BEGIN:VEVENT
DTSTAMP:20260425T211330
DTSTART:20090624T210000
DTEND:20090624T230000
UID:289@www.usmvl.lu/calendar
CLASS:PUBLIC
SUMMARY:Douane's Musek mam Änder Hirtt & Band an Sträicherensembel um Knuedler
DESCRIPTION:Douane's Musek spillt hire Concert mam Änder Hirtt & Band an
  Sträicherensembel vum leschte Joer an der Philharmonie nach eng
  Kéier an dat "Open Air" op der grousser Bühn um
  Knuedler.
CONTACT:Douane's Musek\, André C.N. FRIDEN\, Postkëscht 2695\, 661 28 04 18\, Fax 74 86 35
LOCATION:Knuedler\, Place Guillaume\, L-1026 Luxemburg
CATEGORIES:Concert,Concert
END:VEVENT
END:VCALENDAR