BEGIN:VCALENDAR
VERSION:2.0
METHOD:PUBLISH
PRODID:-//Event-List//NONSGML Event-List 5.0.3//DE
X-WR-TIMEZONE:Europe/Berlin
CALSCALE:GREGORIAN
BEGIN:VTIMEZONE
TZID:Europe/Berlin
BEGIN:DAYLIGHT
TZOFFSETFROM:+0100
TZOFFSETTO:+0200
DTSTART:19810329T020000
RRULE:FREQ=YEARLY;BYMONTH=3;BYDAY=-1SU
TZNAME:CEST
END:DAYLIGHT
BEGIN:STANDARD
TZOFFSETFROM:+0200
TZOFFSETTO:+0100
DTSTART:19961027T030000
RRULE:FREQ=YEARLY;BYMONTH=10;BYDAY=-1SU
TZNAME:CET
END:STANDARD
END:VTIMEZONE
BEGIN:VEVENT
DTSTAMP:20260425T152523
DTSTART:20100627T093000
DTEND:20100627T093000
UID:309@www.usmvl.lu/calendar
CLASS:PUBLIC
SUMMARY:INAUGURATION NOUVEAU DRAPEAU HMLG ANNIVERSAIRE
DESCRIPTION:
CONTACT:HMLG\, Claude Glesener\, Secrétaire HMLG Anniversaire\, 621232066
LOCATION:Eglise de Gasperich\, rue de Gasperich\, Gasperich
CATEGORIES:Concert,Divers
END:VEVENT
END:VCALENDAR