BEGIN:VCALENDAR
VERSION:2.0
METHOD:PUBLISH
PRODID:-//Event-List//NONSGML Event-List 5.0.3//DE
X-WR-TIMEZONE:Europe/Berlin
CALSCALE:GREGORIAN
BEGIN:VTIMEZONE
TZID:Europe/Berlin
BEGIN:DAYLIGHT
TZOFFSETFROM:+0100
TZOFFSETTO:+0200
DTSTART:19810329T020000
RRULE:FREQ=YEARLY;BYMONTH=3;BYDAY=-1SU
TZNAME:CEST
END:DAYLIGHT
BEGIN:STANDARD
TZOFFSETFROM:+0200
TZOFFSETTO:+0100
DTSTART:19961027T030000
RRULE:FREQ=YEARLY;BYMONTH=10;BYDAY=-1SU
TZNAME:CET
END:STANDARD
END:VTIMEZONE
BEGIN:VEVENT
DTSTAMP:20260425T152549
DTSTART:20100625T203000
DTEND:20100625T203000
UID:311@www.usmvl.lu/calendar
CLASS:PUBLIC
SUMMARY:Concert
DESCRIPTION:Traditionnelle Concert vun der Douane's Musek um leschte Freideg am
  Juni op der Plëss
CONTACT:Douane's Musek\, FRIDEN André\, Postkëscht 2695\, 661280418\, Fax 748635
LOCATION:Kiosk op der Plëss\, Place d'Armes\, L-1136 Luxembourg
CATEGORIES:Concert
END:VEVENT
END:VCALENDAR