BEGIN:VCALENDAR
VERSION:2.0
METHOD:PUBLISH
PRODID:-//Event-List//NONSGML Event-List 5.0.3//DE
X-WR-TIMEZONE:Europe/Berlin
CALSCALE:GREGORIAN
BEGIN:VTIMEZONE
TZID:Europe/Berlin
BEGIN:DAYLIGHT
TZOFFSETFROM:+0100
TZOFFSETTO:+0200
DTSTART:19810329T020000
RRULE:FREQ=YEARLY;BYMONTH=3;BYDAY=-1SU
TZNAME:CEST
END:DAYLIGHT
BEGIN:STANDARD
TZOFFSETFROM:+0200
TZOFFSETTO:+0100
DTSTART:19961027T030000
RRULE:FREQ=YEARLY;BYMONTH=10;BYDAY=-1SU
TZNAME:CET
END:STANDARD
END:VTIMEZONE
BEGIN:VEVENT
DTSTAMP:20260426T010354
DTSTART:20130113T150000
DTEND:20130113T150000
UID:432@www.usmvl.lu/calendar
CLASS:PUBLIC
SUMMARY:Theater am Neiduerf
DESCRIPTION:Fanfare Municipale Neudorf-Weimershof spillt: Déi Falsch am Sak
CONTACT:Fanfares des Faubourgs
LOCATION:L-2222 Luxembourg
CATEGORIES:Divers
END:VEVENT
END:VCALENDAR