BEGIN:VCALENDAR
VERSION:2.0
METHOD:PUBLISH
PRODID:-//Event-List//NONSGML Event-List 5.0.3//DE
X-WR-TIMEZONE:Europe/Berlin
CALSCALE:GREGORIAN
BEGIN:VTIMEZONE
TZID:Europe/Berlin
BEGIN:DAYLIGHT
TZOFFSETFROM:+0100
TZOFFSETTO:+0200
DTSTART:19810329T020000
RRULE:FREQ=YEARLY;BYMONTH=3;BYDAY=-1SU
TZNAME:CEST
END:DAYLIGHT
BEGIN:STANDARD
TZOFFSETFROM:+0200
TZOFFSETTO:+0100
DTSTART:19961027T030000
RRULE:FREQ=YEARLY;BYMONTH=10;BYDAY=-1SU
TZNAME:CET
END:STANDARD
END:VTIMEZONE
BEGIN:VEVENT
DTSTAMP:20260425T035548
DTSTART:20140309T103000
DTEND:20140309T120000
UID:462@www.usmvl.lu/calendar
CLASS:PUBLIC
SUMMARY:Generalversammlung CENTS
DESCRIPTION:
CONTACT:Fanfare Royale Grand-Ducale Luxembourg-Grund-Fetschenhof-Cents-Pulvermuhl
LOCATION:Museksall um Rez-de-Chaussée vum Centre Sociétaire\, 167\, rue de Trèves\, 2630 Luxembourg-Cents
CATEGORIES:Divers
END:VEVENT
END:VCALENDAR