BEGIN:VCALENDAR
VERSION:2.0
METHOD:PUBLISH
PRODID:-//Event-List//NONSGML Event-List 5.0.3//DE
X-WR-TIMEZONE:Europe/Berlin
CALSCALE:GREGORIAN
BEGIN:VTIMEZONE
TZID:Europe/Berlin
BEGIN:DAYLIGHT
TZOFFSETFROM:+0100
TZOFFSETTO:+0200
DTSTART:19810329T020000
RRULE:FREQ=YEARLY;BYMONTH=3;BYDAY=-1SU
TZNAME:CEST
END:DAYLIGHT
BEGIN:STANDARD
TZOFFSETFROM:+0200
TZOFFSETTO:+0100
DTSTART:19961027T030000
RRULE:FREQ=YEARLY;BYMONTH=10;BYDAY=-1SU
TZNAME:CET
END:STANDARD
END:VTIMEZONE
BEGIN:VEVENT
DTSTAMP:20260425T054333
DTSTART:20160521T093000
DTEND:20160521T093000
UID:509@www.usmvl.lu/calendar
CLASS:PUBLIC
SUMMARY:Haemmelsmarsch zu Gaasperech
DESCRIPTION:Sa den 21ten a So den 22ten 
CONTACT:Harmonie Municipale Luxembourg-Gasperich a.s.b.l. 
CATEGORIES:Divers
END:VEVENT
END:VCALENDAR