BEGIN:VCALENDAR
VERSION:2.0
METHOD:PUBLISH
PRODID:-//Event-List//NONSGML Event-List 5.0.3//DE
X-WR-TIMEZONE:Europe/Berlin
CALSCALE:GREGORIAN
BEGIN:VTIMEZONE
TZID:Europe/Berlin
BEGIN:DAYLIGHT
TZOFFSETFROM:+0100
TZOFFSETTO:+0200
DTSTART:19810329T020000
RRULE:FREQ=YEARLY;BYMONTH=3;BYDAY=-1SU
TZNAME:CEST
END:DAYLIGHT
BEGIN:STANDARD
TZOFFSETFROM:+0200
TZOFFSETTO:+0100
DTSTART:19961027T030000
RRULE:FREQ=YEARLY;BYMONTH=10;BYDAY=-1SU
TZNAME:CET
END:STANDARD
END:VTIMEZONE
BEGIN:VEVENT
DTSTAMP:20260424T083804
DTSTART:20200921T183000
DTEND:20200921T194500
UID:673@www.usmvl.lu/calendar
CLASS:PUBLIC
SUMMARY:USMVL Versammlung
DESCRIPTION:
CONTACT:Harmonie Municipale Luxembourg-Eich
LOCATION:3 Rue Auguste Laval\, 1922 Luxemburg
CATEGORIES:USMVL
END:VEVENT
END:VCALENDAR