BEGIN:VCALENDAR
VERSION:2.0
METHOD:PUBLISH
PRODID:-//Event-List//NONSGML Event-List 5.0.3//DE
X-WR-TIMEZONE:Europe/Berlin
CALSCALE:GREGORIAN
BEGIN:VTIMEZONE
TZID:Europe/Berlin
BEGIN:DAYLIGHT
TZOFFSETFROM:+0100
TZOFFSETTO:+0200
DTSTART:19810329T020000
RRULE:FREQ=YEARLY;BYMONTH=3;BYDAY=-1SU
TZNAME:CEST
END:DAYLIGHT
BEGIN:STANDARD
TZOFFSETFROM:+0200
TZOFFSETTO:+0100
DTSTART:19961027T030000
RRULE:FREQ=YEARLY;BYMONTH=10;BYDAY=-1SU
TZNAME:CET
END:STANDARD
END:VTIMEZONE
BEGIN:VEVENT
DTSTAMP:20260424T081251
DTSTART:20200418T200000
DTEND:20200418T200000
UID:677@www.usmvl.lu/calendar
CLASS:PUBLIC
SUMMARY:R E P O R T é  Gala 60 ans hmlg
DESCRIPTION: R EP O R T é\nGrand concert de Gala du soixantenaire Harmonie
  Municipale Luxembourg-Gasperich le18 avril 2020 à 20h00\ndans le
  hall omnisports à Gasperich, rue G. Rossini\nSpécial
  invité Bastien Baumet, Euphonium\n\nPour cet évènement
  un grand ensemble\nd'environ 90 musiciens sera sur place.\nCet
  ensemble est composé de 3 harmonies\ncomme suit:\nHarmonie
  Municipale Luxembourg-Gasperich (L)\nHarmonie Municipale Union de Corny
  (F)\nHarmonie Intercommunale Vents d'Est Ennery (F)\nChef de
  direction: Lionel Valeri\nSolistes:\nBastien Baumet, musicien
  international, Euphonium\nLionel Legrand, Saxophone Alto et
  Soprano\nMathieu Reinert, trompette\net deux solistes de l'Harmonie de
  Gasperich\nCynthia Krummes et Silvia Ribeiro, flûte
  traversière\nLuc Brungard, Saxophone baryton de l'harmonie de
  Corny \n\nTickets: €15,00 prévente\nCaisse du soir: €20,00
  \nétudiants: €10,00\nRéservation tickets
  prévente: Tel 62121497 \n\n
CONTACT:Harmonie Gasperich\, Marianne Degregori\, 621219497
LOCATION:Hall Omnisports Gasperich\, 2 Rue Gioacchino Rossini\, 2451 Luxembourg
CATEGORIES:Concert
END:VEVENT
END:VCALENDAR