BEGIN:VCALENDAR
VERSION:2.0
METHOD:PUBLISH
PRODID:-//Event-List//NONSGML Event-List 5.0.3//DE
X-WR-TIMEZONE:Europe/Berlin
CALSCALE:GREGORIAN
BEGIN:VTIMEZONE
TZID:Europe/Berlin
BEGIN:DAYLIGHT
TZOFFSETFROM:+0100
TZOFFSETTO:+0200
DTSTART:19810329T020000
RRULE:FREQ=YEARLY;BYMONTH=3;BYDAY=-1SU
TZNAME:CEST
END:DAYLIGHT
BEGIN:STANDARD
TZOFFSETFROM:+0200
TZOFFSETTO:+0100
DTSTART:19961027T030000
RRULE:FREQ=YEARLY;BYMONTH=10;BYDAY=-1SU
TZNAME:CET
END:STANDARD
END:VTIMEZONE
BEGIN:VEVENT
DTSTAMP:20260424T070529
DTSTART:20200328T200000
DTEND:20200328T200000
UID:679@www.usmvl.lu/calendar
CLASS:PUBLIC
SUMMARY:Fréijoersconcert Harmonie Rollengergronn
DESCRIPTION:D'Harmonie Rollengergronn invitéiert op hire
  Fréijoersconcert samsdes, den 28. Mäerz 2020 um 20 Auer an der
  Sportshal Rollengergronn. 1. Deel: Harmonie Rollengergronn, Direktioun:
  Ivan Boumans. 2. Deel: Harmonie Gréiwemaacher, Direktioun: Philippe
  Schwartz. D'Entrée ass gratis. Eng gratis Navette ass
  assuréiert vun 18h30 un um Parking vum Karate Club Stroossen, rue de
  Reckenthal. D'Parkplaze bei der Hal si leider begrenzt.
CONTACT:Harmonie Rollingergrund\, 276\, rue de Rollingergrund\, 2441 Luxembourg\, 440125
LOCATION:Hal sportif Rollingergrund\, 239\, rue de Rollingergrund\, 2441 Luxembourg
CATEGORIES:Concert,Concert
END:VEVENT
END:VCALENDAR